BEGIN:VCALENDAR
VERSION:2.0
PRODID:DPCALENDAR
CALSCALE:GREGORIAN
BEGIN:VTIMEZONE
TZID:Europe/Prague
X-MICROSOFT-CDO-TZID:6
BEGIN:STANDARD
DTSTART:20251026T010000
TZOFFSETFROM:+0200
TZOFFSETTO:+0100
TZNAME:CET
END:STANDARD
BEGIN:STANDARD
DTSTART:20261025T010000
TZOFFSETFROM:+0200
TZOFFSETTO:+0100
TZNAME:CET
END:STANDARD
BEGIN:DAYLIGHT
DTSTART:20260329T010000
TZOFFSETFROM:+0100
TZOFFSETTO:+0200
TZNAME:CEST
END:DAYLIGHT
END:VTIMEZONE
X-WR-TIMEZONE:Europe/Prague
BEGIN:VEVENT
DTSTART;TZID=Europe/Prague:20260516T090000
DTEND;TZID=Europe/Prague:20260516T170000
UID:415D164B-5279-4D79-A5FC-0CBC45BE901F
SUMMARY:výlet Litomyšl - akce KAS
DTSTAMP:20251208T161853Z
DESCRIPTION:cena: 400 Kč členové KASu a 450 Kč nečlenové, Lidl
X-ALT-DESC;FMTTYPE=text/html:<p>cena: 400 Kč členové KASu a 450 Kč nečlenové, Lidl</p>
LAST-MODIFIED:20260323T142819Z
X-ACCESS:1
X-HITS:187
X-URL:
X-COLOR:007744
END:VEVENT
END:VCALENDAR