BEGIN:VCALENDAR
VERSION:2.0
PRODID:DPCALENDAR
CALSCALE:GREGORIAN
BEGIN:VTIMEZONE
TZID:Europe/Prague
X-MICROSOFT-CDO-TZID:6
BEGIN:STANDARD
DTSTART:20251026T010000
TZOFFSETFROM:+0200
TZOFFSETTO:+0100
TZNAME:CET
END:STANDARD
BEGIN:STANDARD
DTSTART:20261025T010000
TZOFFSETFROM:+0200
TZOFFSETTO:+0100
TZNAME:CET
END:STANDARD
BEGIN:DAYLIGHT
DTSTART:20260329T010000
TZOFFSETFROM:+0100
TZOFFSETTO:+0200
TZNAME:CEST
END:DAYLIGHT
END:VTIMEZONE
X-WR-TIMEZONE:Europe/Prague
BEGIN:VEVENT
DTSTART;TZID=Europe/Prague:20250115T150000
DTEND;TZID=Europe/Prague:20250115T180000
UID:54BEB359-2649-4A32-9CD6-C5005C33064A
SUMMARY:Divadlo Ungelt - Krásná vzpomínka
DTSTAMP:20241218T083452Z
DESCRIPTION:akce KAS
X-ALT-DESC;FMTTYPE=text/html:<p>akce KAS</p>
LAST-MODIFIED:20241218T083521Z
X-ACCESS:1
X-HITS:261
X-URL:
X-COLOR:007744
END:VEVENT
END:VCALENDAR