BEGIN:VCALENDAR
VERSION:2.0
PRODID:DPCALENDAR
CALSCALE:GREGORIAN
BEGIN:VTIMEZONE
TZID:Europe/Prague
X-MICROSOFT-CDO-TZID:6
BEGIN:STANDARD
DTSTART:20251026T010000
TZOFFSETFROM:+0200
TZOFFSETTO:+0100
TZNAME:CET
END:STANDARD
BEGIN:STANDARD
DTSTART:20261025T010000
TZOFFSETFROM:+0200
TZOFFSETTO:+0100
TZNAME:CET
END:STANDARD
BEGIN:DAYLIGHT
DTSTART:20260329T010000
TZOFFSETFROM:+0100
TZOFFSETTO:+0200
TZNAME:CEST
END:DAYLIGHT
END:VTIMEZONE
X-WR-TIMEZONE:Europe/Prague
BEGIN:VEVENT
DTSTART;VALUE=DATE:20230323
DTEND;VALUE=DATE:20230324
UID:14D648A9-DF0F-4D04-85E7-45C620D1804D
SUMMARY:Dny otevřených dveří v mateřských školkách - MŠ Sluníčko
DTSTAMP:20230222T103941Z
DESCRIPTION:{dokumenty nodeRef=workspace://SpacesStore/db0fe48e-d7d9-47d4-98e5-54e63d98f125 styl=imgpreview}
X-ALT-DESC;FMTTYPE=text/html:<p>{dokumenty nodeRef=workspace://SpacesStore/db0fe48e-d7d9-47d4-98e5-54e63d98f125 styl=imgpreview}</p>
X-ACCESS:1
X-HITS:492
X-URL:
X-COLOR:007744
END:VEVENT
END:VCALENDAR